BEGIN:VCALENDAR
VERSION:2.0
PRODID:-//Jardin de Miramar Events Place and Venue - ECPv6.15.15//NONSGML v1.0//EN
CALSCALE:GREGORIAN
METHOD:PUBLISH
X-WR-CALNAME:Jardin de Miramar Events Place and Venue
X-ORIGINAL-URL:https://jardindemiramareventsvenue.com
X-WR-CALDESC:Events for Jardin de Miramar Events Place and Venue
REFRESH-INTERVAL;VALUE=DURATION:PT1H
X-Robots-Tag:noindex
X-PUBLISHED-TTL:PT1H
BEGIN:VTIMEZONE
TZID:Asia/Shanghai
BEGIN:STANDARD
TZOFFSETFROM:+0800
TZOFFSETTO:+0800
TZNAME:CST
DTSTART:20220101T000000
END:STANDARD
END:VTIMEZONE
BEGIN:VEVENT
DTSTART;TZID=Asia/Shanghai:20230108T110000
DTEND;TZID=Asia/Shanghai:20230108T170000
DTSTAMP:20260425T182035
CREATED:20221223T093300Z
LAST-MODIFIED:20221228T073026Z
UID:19107-1673175600-1673197200@jardindemiramareventsvenue.com
SUMMARY:Richgold Weddings' Grand Food Tasting Event
DESCRIPTION:Come join us for a culinary experience you won’t soon forget! Richgold Weddings is hosting a grand food tasting event at the stunning Jardin de Miramar. Let’s gather and explore an array of flavors in one of the most beautiful settings imaginable. Tag your fiancé to this delicious event\, we are giving you 2 free seats! Register now! \n\n	\n	\n	\n	\n    \n\n	    \n    \n        Registrations are closed for this event
URL:https://jardindemiramareventsvenue.com/event/richgold-weddings-grand-food-tasting-event/
LOCATION:Isla Palma Venue\, Jardin de Miramar Buliran Rd. Brgy. San Isidro\, Antipolo City\, Philippines\, Rizal\, 1870\, Philippines
CATEGORIES:Grand Food Tasting
ATTACH;FMTTYPE=image/png:https://jardindemiramareventsvenue.com/jardindemiramareventsvenue/wp-content/uploads/2022/12/JAN-8-2022-EVENT-2.png
ORGANIZER;CN="RIchgold Weddings":MAILTO:inquiry@richgoldweddings.com.ph
END:VEVENT
END:VCALENDAR