BEGIN:VCALENDAR
VERSION:2.0
PRODID:-//Jardin de Miramar Events Place and Venue - ECPv6.15.15//NONSGML v1.0//EN
CALSCALE:GREGORIAN
METHOD:PUBLISH
X-WR-CALNAME:Jardin de Miramar Events Place and Venue
X-ORIGINAL-URL:https://jardindemiramareventsvenue.com
X-WR-CALDESC:Events for Jardin de Miramar Events Place and Venue
REFRESH-INTERVAL;VALUE=DURATION:PT1H
X-Robots-Tag:noindex
X-PUBLISHED-TTL:PT1H
BEGIN:VTIMEZONE
TZID:Asia/Shanghai
BEGIN:STANDARD
TZOFFSETFROM:+0800
TZOFFSETTO:+0800
TZNAME:CST
DTSTART:20220101T000000
END:STANDARD
END:VTIMEZONE
BEGIN:VEVENT
DTSTART;TZID=Asia/Shanghai:20230122T110000
DTEND;TZID=Asia/Shanghai:20230122T170000
DTSTAMP:20260426T111712
CREATED:20221223T101235Z
LAST-MODIFIED:20221230T091635Z
UID:19122-1674385200-1674406800@jardindemiramareventsvenue.com
SUMMARY:SacB Catering's Grand Food Tasting Event
DESCRIPTION:Looking for something to satisfy your taste buds to help you decide which caterer to avail? 🤤 SacB Catering has you covered! Join us at our Grand Food Tasting event and discover a range of culinary delights! Who’s ready to explore some delicious flavors with us? 🙋‍♀ Register Now!\n\n\n	\n	\n	\n	\n    \n\n	    \n    \n        Registrations are closed for this event
URL:https://jardindemiramareventsvenue.com/event/sacb-caterings-grand-food-tasting-event/
LOCATION:Isla Palma Venue\, Jardin de Miramar Buliran Rd. Brgy. San Isidro\, Antipolo City\, Philippines\, Rizal\, 1870\, Philippines
CATEGORIES:Grand Food Tasting
ATTACH;FMTTYPE=image/png:https://jardindemiramareventsvenue.com/jardindemiramareventsvenue/wp-content/uploads/2022/12/JAN-22.png
ORGANIZER;CN="Sac B Catering":MAILTO:info@sacbcatering.com
END:VEVENT
END:VCALENDAR