BEGIN:VCALENDAR
VERSION:2.0
PRODID:-//Jardin de Miramar Events Place and Venue - ECPv6.15.15//NONSGML v1.0//EN
CALSCALE:GREGORIAN
METHOD:PUBLISH
X-WR-CALNAME:Jardin de Miramar Events Place and Venue
X-ORIGINAL-URL:https://jardindemiramareventsvenue.com
X-WR-CALDESC:Events for Jardin de Miramar Events Place and Venue
REFRESH-INTERVAL;VALUE=DURATION:PT1H
X-Robots-Tag:noindex
X-PUBLISHED-TTL:PT1H
BEGIN:VTIMEZONE
TZID:Asia/Shanghai
BEGIN:STANDARD
TZOFFSETFROM:+0800
TZOFFSETTO:+0800
TZNAME:CST
DTSTART:20220101T000000
END:STANDARD
END:VTIMEZONE
BEGIN:VEVENT
DTSTART;VALUE=DATE:20230210
DTEND;VALUE=DATE:20230213
DTSTAMP:20260425T201124
CREATED:20230127T072149Z
LAST-MODIFIED:20230209T063436Z
UID:19181-1675987200-1676246399@jardindemiramareventsvenue.com
SUMMARY:Jardin de Miramar at The Wedding Library Bridal Fair 2023 | World Trade Center
DESCRIPTION:Get ready to tie the knot in style! Jardin de Miramar at The Wedding Library Bridal Fair is the perfect destination for all your wedding and party needs. With our wide array of wedding packages with top wedding suppliers from East & Metro manila\, you’ll be able to make your special day unforgettable. Visit our booth at aisle 1B-2B on February 10-12\, 2023 at the World Trade Center to score the most amazing deal!  Get your RSVP Tickets now for FREE\n\n\n	\n	\n	\n	\n    \n\n	    \n    \n        Registrations are closed for this event
URL:https://jardindemiramareventsvenue.com/event/jardin-de-miramar-at-the-wedding-library-bridal-fair-2023-world-trade-center/
LOCATION:World Trade Center\, Philippines
CATEGORIES:Bridal Fair
ORGANIZER;CN="Jardin de Miramar":MAILTO:info@jardindemiramar.com
END:VEVENT
END:VCALENDAR