BEGIN:VCALENDAR
VERSION:2.0
PRODID:-//Jardin de Miramar Events Place and Venue - ECPv6.15.15//NONSGML v1.0//EN
CALSCALE:GREGORIAN
METHOD:PUBLISH
X-WR-CALNAME:Jardin de Miramar Events Place and Venue
X-ORIGINAL-URL:https://jardindemiramareventsvenue.com
X-WR-CALDESC:Events for Jardin de Miramar Events Place and Venue
REFRESH-INTERVAL;VALUE=DURATION:PT1H
X-Robots-Tag:noindex
X-PUBLISHED-TTL:PT1H
BEGIN:VTIMEZONE
TZID:Asia/Shanghai
BEGIN:STANDARD
TZOFFSETFROM:+0800
TZOFFSETTO:+0800
TZNAME:CST
DTSTART:20220101T000000
END:STANDARD
END:VTIMEZONE
BEGIN:VEVENT
DTSTART;TZID=Asia/Shanghai:20230219T110000
DTEND;TZID=Asia/Shanghai:20230219T170000
DTSTAMP:20260425T102634
CREATED:20230128T052801Z
LAST-MODIFIED:20230215T015818Z
UID:19196-1676804400-1676826000@jardindemiramareventsvenue.com
SUMMARY:Jardin de Miramar's Perfect Match 2: Rizal's Finest Bridal Fair
DESCRIPTION:The first one was a success so we are coming back again for more. Find the right supplier from grazing tables\, light and sounds and a lot more that will help complete your dream wedding. Perfect Match 2: Rizal’s finest is happening on February 19 at Jardin de Miramar from 11AM – 5 PM. See you there newly weds! Get your free rsvp here!\n\n\n	\n	\n	\n	\n    \n\n	    \n    \n        		There were errors with your submission. Please try again.\n		\n        \n\n\n	Be the first!	\n\n	\n\n				\n				\n\n		\n		\n			\n			\n	\n		\n\n	Wedding Market Caterer\n	\n					\n				Densol's Catering\n			\n						\n				Madriaga's Catering\n			\n						\n				Not Interested\n			\n								\n\n\n\n	Preferred meeting time\n	\n				\n							1PM\n								2PM\n								3PM\n								4PM\n								5PM\n						\n							\n\n\n\n	Bride/Celebrant's Name\n	\n						\n									\n\n\n\n	Groom`s name\n	\n						\n									\n\n\n\n	Email*\n	\n						\n									\n\n\n\n	Cellphone Number\n	\n						\n									\n\n\n\n	City Residence of Bride\n	\n						\n									\n\n\n\n	Event Date\n	\n						\n									\n\n\n\n	Venue of Event\n	\n						\n									\n\n\n\n	No. of Pax/Guest for your Event\n	\n					\n				50\n			\n						\n				100\n			\n						\n				150\n			\n						\n				200\n			\n								\n\n\n\n	Are you looking for a Venue?\n	\n					\n				Yes\n			\n						\n				No\n			\n								\n\n\n\n	Others (Please Specify)\n	\n						\n									\n\n\n\n	Tick off this box if you authorize Jardin de Miramar to share your specific requirements and contact info to appointed suppliers of the Jardin de Miramar. *Subject to change without prior notice.\n	\n					\n				Tick off this box if you authorize Jardin de Miramar to share your specific requirements and contact info to appointed suppliers of the Jardin de Miramar.\n			\n		\n							\n\n	\n		\n\n				\n			Address\n			\n				\n				If you are a human\, do not fill in this field
URL:https://jardindemiramareventsvenue.com/event/love-begins-at-jardin-sac-b-x-densols-back-to-back-grand-food-tasting-event/
LOCATION:Jardin de Miramar Events Venue\, Buliran Rd. Brgy. San Isidro\, Antipolo City\, Rizal\, 1870\, Philippines
CATEGORIES:Bridal Fair
ATTACH;FMTTYPE=image/jpeg:https://jardindemiramareventsvenue.com/jardindemiramareventsvenue/wp-content/uploads/2023/01/PM-2-small.jpg
ORGANIZER;CN="Sac B Catering":MAILTO:info@sacbcatering.com
END:VEVENT
END:VCALENDAR