BEGIN:VCALENDAR
VERSION:2.0
PRODID:-//Jardin de Miramar Events Place and Venue - ECPv6.15.15//NONSGML v1.0//EN
CALSCALE:GREGORIAN
METHOD:PUBLISH
X-WR-CALNAME:Jardin de Miramar Events Place and Venue
X-ORIGINAL-URL:https://jardindemiramareventsvenue.com
X-WR-CALDESC:Events for Jardin de Miramar Events Place and Venue
REFRESH-INTERVAL;VALUE=DURATION:PT1H
X-Robots-Tag:noindex
X-PUBLISHED-TTL:PT1H
BEGIN:VTIMEZONE
TZID:Asia/Shanghai
BEGIN:STANDARD
TZOFFSETFROM:+0800
TZOFFSETTO:+0800
TZNAME:CST
DTSTART:20220101T000000
END:STANDARD
END:VTIMEZONE
BEGIN:VEVENT
DTSTART;TZID=Asia/Shanghai:20230225T110000
DTEND;TZID=Asia/Shanghai:20230225T170000
DTSTAMP:20260425T120149
CREATED:20230209T063328Z
LAST-MODIFIED:20230209T091112Z
UID:19216-1677322800-1677344400@jardindemiramareventsvenue.com
SUMMARY:Love Begins at Jardin | Hizon's Catering Mini-Food Tasting Event
DESCRIPTION:It’s indeed the month of love. And by choosing Hizon’s Catering you’re choosing the best catering with love. Don’t miss out Hizon’s Catering Mini Food Tasting Event is happening on February 25\, 2023 at Jardin De Miramar from 11:00 AM- 5:00 PM What are you waiting for? Get your free rsvp here! \n\n	\n	\n	\n	\n    \n\n	    \n    \n        Registrations are closed for this event
URL:https://jardindemiramareventsvenue.com/event/love-begins-at-jardin-hizons-catering-mini-food-tasting-event/
LOCATION:Cafe Leonita\, Buliran Rd. Brgy. San Isidro\, Antipolo City\, Philippines\, Rizal\, 1870\, Philippines
CATEGORIES:Grand Food Tasting
ATTACH;FMTTYPE=image/jpeg:https://jardindemiramareventsvenue.com/jardindemiramareventsvenue/wp-content/uploads/2023/02/hizons-correct.jpg
END:VEVENT
END:VCALENDAR