BEGIN:VCALENDAR
VERSION:2.0
PRODID:-//Jardin de Miramar Events Place and Venue - ECPv6.15.15//NONSGML v1.0//EN
CALSCALE:GREGORIAN
METHOD:PUBLISH
X-ORIGINAL-URL:https://jardindemiramareventsvenue.com
X-WR-CALDESC:Events for Jardin de Miramar Events Place and Venue
REFRESH-INTERVAL;VALUE=DURATION:PT1H
X-Robots-Tag:noindex
X-PUBLISHED-TTL:PT1H
BEGIN:VTIMEZONE
TZID:Asia/Shanghai
BEGIN:STANDARD
TZOFFSETFROM:+0800
TZOFFSETTO:+0800
TZNAME:CST
DTSTART:20220101T000000
END:STANDARD
END:VTIMEZONE
BEGIN:VEVENT
DTSTART;TZID=Asia/Shanghai:20230226T110000
DTEND;TZID=Asia/Shanghai:20230226T170000
DTSTAMP:20260425T211108
CREATED:20230128T060956Z
LAST-MODIFIED:20230209T083040Z
UID:19205-1677409200-1677430800@jardindemiramareventsvenue.com
SUMMARY:Love Begins at Jardin | CVJ Catering Grand Food Tasting Event
DESCRIPTION:Food is above everything. When it comes to foods we are giving you what is best CVJ Grand Food Tasting Event is happening on February 26\, 2023 at Jardin De Miramar from 11:00 AM- 5:00 PM. See you there! Get your free rsvp here! \n  \n\n	\n	\n	\n	\n    \n\n	    \n    \n        Registrations are closed for this event
URL:https://jardindemiramareventsvenue.com/event/love-begins-at-jardin-cvj-catering-grand-food-tasting-event/
LOCATION:Jardin de Miramar Events Venue\, Buliran Rd. Brgy. San Isidro\, Antipolo City\, Rizal\, 1870\, Philippines
CATEGORIES:Grand Food Tasting
ATTACH;FMTTYPE=image/jpeg:https://jardindemiramareventsvenue.com/jardindemiramareventsvenue/wp-content/uploads/2023/01/cvj-.jpg
ORGANIZER;CN="CVJ Catering":MAILTO:cvjfoodcorp@yahoo.com
END:VEVENT
END:VCALENDAR