BEGIN:VCALENDAR
VERSION:2.0
PRODID:-//Jardin de Miramar Events Place and Venue - ECPv6.15.15//NONSGML v1.0//EN
CALSCALE:GREGORIAN
METHOD:PUBLISH
X-WR-CALNAME:Jardin de Miramar Events Place and Venue
X-ORIGINAL-URL:https://jardindemiramareventsvenue.com
X-WR-CALDESC:Events for Jardin de Miramar Events Place and Venue
REFRESH-INTERVAL;VALUE=DURATION:PT1H
X-Robots-Tag:noindex
X-PUBLISHED-TTL:PT1H
BEGIN:VTIMEZONE
TZID:Asia/Shanghai
BEGIN:STANDARD
TZOFFSETFROM:+0800
TZOFFSETTO:+0800
TZNAME:CST
DTSTART:20220101T000000
END:STANDARD
END:VTIMEZONE
BEGIN:VEVENT
DTSTART;TZID=Asia/Shanghai:20230318T110000
DTEND;TZID=Asia/Shanghai:20230318T170000
DTSTAMP:20260425T182110
CREATED:20230304T060418Z
LAST-MODIFIED:20230314T015718Z
UID:19240-1679137200-1679158800@jardindemiramareventsvenue.com
SUMMARY:SM Megamall
DESCRIPTION:Registrations are closed for this event
URL:https://jardindemiramareventsvenue.com/event/sm-megamall/
LOCATION:Megatrade Hall SM Megamall\, 5th Level Mega B\, SM Megamall Edsa cor. Julia Vargas Ave.\, Mandaluyong\, Philippines
ATTACH;FMTTYPE=image/png:https://jardindemiramareventsvenue.com/jardindemiramareventsvenue/wp-content/uploads/2023/03/HIZONS.png
END:VEVENT
END:VCALENDAR