BEGIN:VCALENDAR
VERSION:2.0
PRODID:-//Jardin de Miramar Events Place and Venue - ECPv6.15.15//NONSGML v1.0//EN
CALSCALE:GREGORIAN
METHOD:PUBLISH
X-ORIGINAL-URL:https://jardindemiramareventsvenue.com
X-WR-CALDESC:Events for Jardin de Miramar Events Place and Venue
REFRESH-INTERVAL;VALUE=DURATION:PT1H
X-Robots-Tag:noindex
X-PUBLISHED-TTL:PT1H
BEGIN:VTIMEZONE
TZID:Asia/Shanghai
BEGIN:STANDARD
TZOFFSETFROM:+0800
TZOFFSETTO:+0800
TZNAME:CST
DTSTART:20220101T000000
END:STANDARD
END:VTIMEZONE
BEGIN:VEVENT
DTSTART;TZID=Asia/Shanghai:20230416T110000
DTEND;TZID=Asia/Shanghai:20230416T170000
DTSTAMP:20260425T195500
CREATED:20230327T025905Z
LAST-MODIFIED:20230329T031429Z
UID:19324-1681642800-1681664400@jardindemiramareventsvenue.com
SUMMARY:PERFECT MATCH 3 | Dabiana's and SacB Catering
DESCRIPTION:Registrations are closed for this event
URL:https://jardindemiramareventsvenue.com/event/perfect-match-3-dabianas-and-sacb-catering/
LOCATION:Jardin de Miramar Events Venue\, Buliran Rd. Brgy. San Isidro\, Antipolo City\, Rizal\, 1870\, Philippines
CATEGORIES:Grand Food Tasting
ATTACH;FMTTYPE=image/jpeg:https://jardindemiramareventsvenue.com/jardindemiramareventsvenue/wp-content/uploads/2023/03/DBS-SACB.jpg
ORGANIZER;CN="Dabianas' Catering":MAILTO:dabianascatering@gmail.com
END:VEVENT
END:VCALENDAR