BEGIN:VCALENDAR
VERSION:2.0
PRODID:-//Jardin de Miramar Events Place and Venue - ECPv6.15.15//NONSGML v1.0//EN
CALSCALE:GREGORIAN
METHOD:PUBLISH
X-ORIGINAL-URL:https://jardindemiramareventsvenue.com
X-WR-CALDESC:Events for Jardin de Miramar Events Place and Venue
REFRESH-INTERVAL;VALUE=DURATION:PT1H
X-Robots-Tag:noindex
X-PUBLISHED-TTL:PT1H
BEGIN:VTIMEZONE
TZID:Asia/Shanghai
BEGIN:STANDARD
TZOFFSETFROM:+0800
TZOFFSETTO:+0800
TZNAME:CST
DTSTART:20220101T000000
END:STANDARD
END:VTIMEZONE
BEGIN:VEVENT
DTSTART;TZID=Asia/Shanghai:20231126T110000
DTEND;TZID=Asia/Shanghai:20231126T170000
DTSTAMP:20260423T085657
CREATED:20231120T035824Z
LAST-MODIFIED:20231123T062051Z
UID:20372-1700996400-1701018000@jardindemiramareventsvenue.com
SUMMARY:RUSTIC TWILIGHT | CVJ Grand Food Tasting
DESCRIPTION:Registrations are closed for this event
URL:https://jardindemiramareventsvenue.com/event/rustic-twilight-cvg-grand-food-tasting/
LOCATION:Jardin de Miramar Events Venue\, Buliran Rd. Brgy. San Isidro\, Antipolo City\, Rizal\, 1870\, Philippines
ATTACH;FMTTYPE=image/png:https://jardindemiramareventsvenue.com/jardindemiramareventsvenue/wp-content/uploads/2023/11/370311036_1359057194731814_879015357021083849_n.png
END:VEVENT
END:VCALENDAR