BEGIN:VCALENDAR
VERSION:2.0
PRODID:-//Jardin de Miramar Events Place and Venue - ECPv6.15.15//NONSGML v1.0//EN
CALSCALE:GREGORIAN
METHOD:PUBLISH
X-ORIGINAL-URL:https://jardindemiramareventsvenue.com
X-WR-CALDESC:Events for Jardin de Miramar Events Place and Venue
REFRESH-INTERVAL;VALUE=DURATION:PT1H
X-Robots-Tag:noindex
X-PUBLISHED-TTL:PT1H
BEGIN:VTIMEZONE
TZID:Asia/Shanghai
BEGIN:STANDARD
TZOFFSETFROM:+0800
TZOFFSETTO:+0800
TZNAME:CST
DTSTART:20230101T000000
END:STANDARD
END:VTIMEZONE
BEGIN:VEVENT
DTSTART;TZID=Asia/Shanghai:20240128T130000
DTEND;TZID=Asia/Shanghai:20240128T180000
DTSTAMP:20260422T092314
CREATED:20240122T101540Z
LAST-MODIFIED:20240122T101639Z
UID:20734-1706446800-1706464800@jardindemiramareventsvenue.com
SUMMARY:The Best of Rizal | Densol's Catering Grand Food Tasting
DESCRIPTION:Registrations are closed for this event
URL:https://jardindemiramareventsvenue.com/event/the-best-of-rizal-densols-catering-grand-food-tasting/
LOCATION:Jardin de Miramar Events Venue\, Buliran Rd. Brgy. San Isidro\, Antipolo City\, Rizal\, 1870\, Philippines
ATTACH;FMTTYPE=image/png:https://jardindemiramareventsvenue.com/jardindemiramareventsvenue/wp-content/uploads/2024/01/415591642_720747913506754_1180600074438063406_n.png
END:VEVENT
END:VCALENDAR