BEGIN:VCALENDAR
VERSION:2.0
PRODID:-//Jardin de Miramar Events Place and Venue - ECPv6.15.15//NONSGML v1.0//EN
CALSCALE:GREGORIAN
METHOD:PUBLISH
X-WR-CALNAME:Jardin de Miramar Events Place and Venue
X-ORIGINAL-URL:https://jardindemiramareventsvenue.com
X-WR-CALDESC:Events for Jardin de Miramar Events Place and Venue
REFRESH-INTERVAL;VALUE=DURATION:PT1H
X-Robots-Tag:noindex
X-PUBLISHED-TTL:PT1H
BEGIN:VTIMEZONE
TZID:Asia/Shanghai
BEGIN:STANDARD
TZOFFSETFROM:+0800
TZOFFSETTO:+0800
TZNAME:CST
DTSTART:20230101T000000
END:STANDARD
END:VTIMEZONE
BEGIN:VEVENT
DTSTART;TZID=Asia/Shanghai:20240517T110000
DTEND;TZID=Asia/Shanghai:20240519T200000
DTSTAMP:20260421T115013
CREATED:20240508T063742Z
LAST-MODIFIED:20240508T070444Z
UID:21004-1715943600-1716148800@jardindemiramareventsvenue.com
SUMMARY:The Wedding Library
DESCRIPTION:Planning your happily ever after just got a whole lot easier! Dive into a world of wedding wonders at The Wedding Library and discover the perfect pieces to bring your vision to life.\n\n\nWhether you’re a modern minimalist or a boho babe\, our range of chic and stylish options will have you feeling like the ultimate #BrideGoals.\n\n\nPlus\, check out amazing freebies and steal deals when you book Jardin de Miramar. Let’s make magic happen together!\n\n\nRSVP Now! www.weddinglibrarybridalfair.com.ph/register\n\n\n” #weddingplanning #instawedding
URL:https://jardindemiramareventsvenue.com/event/the-wedding-library/
LOCATION:Megatrade Hall SM Megamall\, 5th Level Mega B\, SM Megamall Edsa cor. Julia Vargas Ave.\, Mandaluyong\, Philippines
ATTACH;FMTTYPE=image/jpeg:https://jardindemiramareventsvenue.com/jardindemiramareventsvenue/wp-content/uploads/2024/05/att.P0P47jSAPBjVkwoFr90COJrnB_gKK7DVjH9MhcokobA-1.jpg
END:VEVENT
END:VCALENDAR