BEGIN:VCALENDAR
VERSION:2.0
PRODID:-//Jardin de Miramar Events Place and Venue - ECPv6.15.15//NONSGML v1.0//EN
CALSCALE:GREGORIAN
METHOD:PUBLISH
X-ORIGINAL-URL:https://jardindemiramareventsvenue.com
X-WR-CALDESC:Events for Jardin de Miramar Events Place and Venue
REFRESH-INTERVAL;VALUE=DURATION:PT1H
X-Robots-Tag:noindex
X-PUBLISHED-TTL:PT1H
BEGIN:VTIMEZONE
TZID:Asia/Shanghai
BEGIN:STANDARD
TZOFFSETFROM:+0800
TZOFFSETTO:+0800
TZNAME:CST
DTSTART:20230101T000000
END:STANDARD
END:VTIMEZONE
BEGIN:VEVENT
DTSTART;TZID=Asia/Shanghai:20240804T130000
DTEND;TZID=Asia/Shanghai:20240804T180000
DTSTAMP:20260420T111116
CREATED:20240728T025529Z
LAST-MODIFIED:20240728T025831Z
UID:21097-1722776400-1722794400@jardindemiramareventsvenue.com
SUMMARY:August Amore | Abrams Grand Food Tasting
DESCRIPTION:Hey soon-to-be weds! \n\nGet ready to fall in love all over again at our August Amore– Abram’s Catering Grand Food Tasting event at the stunning Sevilla Venue\, happening on August 4\, 2024\, from 1pm to 6pm.  Join us for an afternoon filled with scrumptious bites\, gorgeous setups\, and endless wedding inspo! \n\n This is your chance to taste the best\, see the best\, and plan the best event ever! See you there\, future Mr. & Mrs.!  #\n\nAugustAmore #JardindeMiramar #SevillaVenue #ForeverStartsHere\n\n	\n	\n	\n	\n    \n\n	    \n    \n        Registrations are closed for this event
URL:https://jardindemiramareventsvenue.com/event/august-amore-abrams-grand-food-tasting/
LOCATION:Jardin de Miramar Events Venue\, Buliran Rd. Brgy. San Isidro\, Antipolo City\, Rizal\, 1870\, Philippines
ATTACH;FMTTYPE=image/jpeg:https://jardindemiramareventsvenue.com/jardindemiramareventsvenue/wp-content/uploads/2024/07/Messenger_creation_14f06109-b1e1-4012-9564-93690bdd9ebf.jpeg
END:VEVENT
END:VCALENDAR