BEGIN:VCALENDAR
VERSION:2.0
PRODID:-//Jardin de Miramar Events Place and Venue - ECPv6.15.15//NONSGML v1.0//EN
CALSCALE:GREGORIAN
METHOD:PUBLISH
X-WR-CALNAME:Jardin de Miramar Events Place and Venue
X-ORIGINAL-URL:https://jardindemiramareventsvenue.com
X-WR-CALDESC:Events for Jardin de Miramar Events Place and Venue
REFRESH-INTERVAL;VALUE=DURATION:PT1H
X-Robots-Tag:noindex
X-PUBLISHED-TTL:PT1H
BEGIN:VTIMEZONE
TZID:Asia/Shanghai
BEGIN:STANDARD
TZOFFSETFROM:+0800
TZOFFSETTO:+0800
TZNAME:CST
DTSTART:20230101T000000
END:STANDARD
END:VTIMEZONE
BEGIN:VEVENT
DTSTART;TZID=Asia/Shanghai:20240811T130000
DTEND;TZID=Asia/Shanghai:20240811T180000
DTSTAMP:20260420T063009
CREATED:20240805T014549Z
LAST-MODIFIED:20240805T014549Z
UID:21110-1723381200-1723399200@jardindemiramareventsvenue.com
SUMMARY:Showered with Love | Sac B Catering GFT
DESCRIPTION:🌿💍 Showered with Love at Jardin de Miramar! 💍🌿 \nCalling all soon-to-be weds! Join us for the ultimate taste test at the Sac B Catering Grand Food Tasting Event on August 11\, 2024\, from 1-6 pm at our gorgeous Ylang-ylang Venue.✨💖 \nSecure your spot and get ready to feast on the finest flavors while soaking in the dreamy vibes of Jardin de Miramar. Trust us\, you won’t want to miss this epic pre-wedding experience. Let’s make your big day as extraordinary as your love story! 🌸🍽️ #ShoweredWithLove #JardindeMiramar #WeddingGoals \n\n	\n	\n	\n	\n    \n\n	    \n    \n        Registrations are closed for this event
URL:https://jardindemiramareventsvenue.com/event/showered-with-love-sac-b-catering-gft/
LOCATION:Jardin de Miramar Events Venue\, Buliran Rd. Brgy. San Isidro\, Antipolo City\, Rizal\, 1870\, Philippines
ATTACH;FMTTYPE=image/jpeg:https://jardindemiramareventsvenue.com/jardindemiramareventsvenue/wp-content/uploads/2024/08/SWL_BANNER.jpg
ORGANIZER;CN="Sac B Catering":MAILTO:info@sacbcatering.com
END:VEVENT
END:VCALENDAR