BEGIN:VCALENDAR
VERSION:2.0
PRODID:-//Jardin de Miramar Events Place and Venue - ECPv6.15.15//NONSGML v1.0//EN
CALSCALE:GREGORIAN
METHOD:PUBLISH
X-WR-CALNAME:Jardin de Miramar Events Place and Venue
X-ORIGINAL-URL:https://jardindemiramareventsvenue.com
X-WR-CALDESC:Events for Jardin de Miramar Events Place and Venue
REFRESH-INTERVAL;VALUE=DURATION:PT1H
X-Robots-Tag:noindex
X-PUBLISHED-TTL:PT1H
BEGIN:VTIMEZONE
TZID:Asia/Shanghai
BEGIN:STANDARD
TZOFFSETFROM:+0800
TZOFFSETTO:+0800
TZNAME:CST
DTSTART:20230101T000000
END:STANDARD
END:VTIMEZONE
BEGIN:VEVENT
DTSTART;TZID=Asia/Shanghai:20240825T130000
DTEND;TZID=Asia/Shanghai:20240825T180000
DTSTAMP:20260420T075125
CREATED:20240818T021034Z
LAST-MODIFIED:20240818T021034Z
UID:21180-1724590800-1724608800@jardindemiramareventsvenue.com
SUMMARY:LOVE UNDER THE STARS  Perfect Match 8   Densol’s Catering & Chef Maria’s Catering
DESCRIPTION:✨ Major wedding vibes incoming! August 25th\, we’re turning the Sevilla Venue into the ultimate love zone with “Love Under The Stars.” 🌌 Get ready to swoon over the culinary genius of Densol’s Catering & Chef Maria’s Catering—your taste buds are in for a joy ride. 🍴💥 \n💍 From 1pm to 6pm\, it’s all about making those wedding dreams a reality. If you’re saying “I do\,” this is where the magic happens. Let’s craft your iconic day under the stars! 🌟 #WeddingFeels #LoveUnderTheStars #JardinDeMiramar\n\n	\n	\n	\n	\n    \n\n	    \n    \n        Registrations are closed for this event
URL:https://jardindemiramareventsvenue.com/event/love-under-the-stars-perfect-match-8-densols-catering-chef-marias-catering/
LOCATION:Sevilla\, Jardin de Miramar Buliran Rd.\, Antipolo\, Rizal\, 1870\, Philippines
ATTACH;FMTTYPE=image/png:https://jardindemiramareventsvenue.com/jardindemiramareventsvenue/wp-content/uploads/2024/08/LOVE-UNDER-THE-STAR.png
END:VEVENT
END:VCALENDAR