BEGIN:VCALENDAR
VERSION:2.0
PRODID:-//Jardin de Miramar Events Place and Venue - ECPv6.15.15//NONSGML v1.0//EN
CALSCALE:GREGORIAN
METHOD:PUBLISH
X-ORIGINAL-URL:https://jardindemiramareventsvenue.com
X-WR-CALDESC:Events for Jardin de Miramar Events Place and Venue
REFRESH-INTERVAL;VALUE=DURATION:PT1H
X-Robots-Tag:noindex
X-PUBLISHED-TTL:PT1H
BEGIN:VTIMEZONE
TZID:Asia/Shanghai
BEGIN:STANDARD
TZOFFSETFROM:+0800
TZOFFSETTO:+0800
TZNAME:CST
DTSTART:20240101T000000
END:STANDARD
END:VTIMEZONE
BEGIN:VEVENT
DTSTART;TZID=Asia/Shanghai:20250420T130000
DTEND;TZID=Asia/Shanghai:20250420T180000
DTSTAMP:20260419T234636
CREATED:20250413T150710Z
LAST-MODIFIED:20250413T151720Z
UID:21813-1745154000-1745172000@jardindemiramareventsvenue.com
SUMMARY:Curated for Love | GRAND FOOD TASTING by Densol’s
DESCRIPTION:Registrations are closed for this event
URL:https://jardindemiramareventsvenue.com/event/curated-for-love-grand-food-tasting-by-densols/
LOCATION:Jardin de Miramar Events Venue\, Buliran Rd. Brgy. San Isidro\, Antipolo City\, Rizal\, 1870\, Philippines
ATTACH;FMTTYPE=image/jpeg:https://jardindemiramareventsvenue.com/jardindemiramareventsvenue/wp-content/uploads/2025/04/f7892301-29ae-4933-9235-cccc903d6306.jpg
ORGANIZER;CN="Jardin de Miramar":MAILTO:info@jardindemiramar.com
END:VEVENT
END:VCALENDAR