BEGIN:VCALENDAR
VERSION:2.0
PRODID:-//Jardin de Miramar Events Place and Venue - ECPv6.15.15//NONSGML v1.0//EN
CALSCALE:GREGORIAN
METHOD:PUBLISH
X-ORIGINAL-URL:https://jardindemiramareventsvenue.com
X-WR-CALDESC:Events for Jardin de Miramar Events Place and Venue
REFRESH-INTERVAL;VALUE=DURATION:PT1H
X-Robots-Tag:noindex
X-PUBLISHED-TTL:PT1H
BEGIN:VTIMEZONE
TZID:Asia/Shanghai
BEGIN:STANDARD
TZOFFSETFROM:+0800
TZOFFSETTO:+0800
TZNAME:CST
DTSTART:20240101T000000
END:STANDARD
END:VTIMEZONE
BEGIN:VEVENT
DTSTART;TZID=Asia/Shanghai:20250831T130000
DTEND;TZID=Asia/Shanghai:20250831T180000
DTSTAMP:20260420T080404
CREATED:20250822T074353Z
LAST-MODIFIED:20250822T074433Z
UID:21909-1756645200-1756663200@jardindemiramareventsvenue.com
SUMMARY:Enchanted Jardin: A Grand Food Tasting Event
DESCRIPTION:Not your ordinary food tasting—this one’s straight out of a fairytale. 🌸✨ Enchanted Jardin | Aug 31 \n\n	\n	\n	\n	\n    \n\n	    \n    \n        Registrations are closed for this event
URL:https://jardindemiramareventsvenue.com/event/enchanted-jardin-a-grand-food-tasting-event/
LOCATION:Jardin de Miramar Events Venue\, Buliran Rd. Brgy. San Isidro\, Antipolo City\, Rizal\, 1870\, Philippines
ATTACH;FMTTYPE=image/png:https://jardindemiramareventsvenue.com/jardindemiramareventsvenue/wp-content/uploads/2025/08/532257642_1880221762930370_3448917979913597813_n.png
END:VEVENT
END:VCALENDAR