BEGIN:VCALENDAR
VERSION:2.0
PRODID:-//Jardin de Miramar Events Place and Venue - ECPv6.15.15//NONSGML v1.0//EN
CALSCALE:GREGORIAN
METHOD:PUBLISH
X-WR-CALNAME:Jardin de Miramar Events Place and Venue
X-ORIGINAL-URL:https://jardindemiramareventsvenue.com
X-WR-CALDESC:Events for Jardin de Miramar Events Place and Venue
REFRESH-INTERVAL;VALUE=DURATION:PT1H
X-Robots-Tag:noindex
X-PUBLISHED-TTL:PT1H
BEGIN:VTIMEZONE
TZID:Asia/Shanghai
BEGIN:STANDARD
TZOFFSETFROM:+0800
TZOFFSETTO:+0800
TZNAME:CST
DTSTART:20200101T000000
END:STANDARD
END:VTIMEZONE
BEGIN:VEVENT
DTSTART;TZID=Asia/Shanghai:20210627T130000
DTEND;TZID=Asia/Shanghai:20210627T180000
DTSTAMP:20260421T013742
CREATED:20210531T071213Z
LAST-MODIFIED:20210531T071213Z
UID:15800-1624798800-1624816800@jardindemiramareventsvenue.com
SUMMARY:Grand Food Tasting 5
DESCRIPTION:
URL:https://jardindemiramareventsvenue.com/event/grand-food-tasting-5/
LOCATION:Jardin de Miramar Events Venue\, Buliran Rd. Brgy. San Isidro\, Antipolo City\, Rizal\, 1870\, Philippines
ORGANIZER;CN="Jardin de Miramar":MAILTO:info@jardindemiramar.com
END:VEVENT
END:VCALENDAR