BEGIN:VCALENDAR
VERSION:2.0
PRODID:-//Jardin de Miramar Events Place and Venue - ECPv6.15.15//NONSGML v1.0//EN
CALSCALE:GREGORIAN
METHOD:PUBLISH
X-ORIGINAL-URL:https://jardindemiramareventsvenue.com
X-WR-CALDESC:Events for Jardin de Miramar Events Place and Venue
REFRESH-INTERVAL;VALUE=DURATION:PT1H
X-Robots-Tag:noindex
X-PUBLISHED-TTL:PT1H
BEGIN:VTIMEZONE
TZID:Asia/Shanghai
BEGIN:STANDARD
TZOFFSETFROM:+0800
TZOFFSETTO:+0800
TZNAME:CST
DTSTART:20220101T000000
END:STANDARD
END:VTIMEZONE
BEGIN:VEVENT
DTSTART;TZID=Asia/Shanghai:20230312T110000
DTEND;TZID=Asia/Shanghai:20230312T170000
DTSTAMP:20260424T222408
CREATED:20230306T021457Z
LAST-MODIFIED:20230311T033637Z
UID:19251-1678618800-1678640400@jardindemiramareventsvenue.com
SUMMARY:Jardin de Miramar and Dabiana's Catering A Toast to Forever
DESCRIPTION:Registrations are closed for this event
URL:https://jardindemiramareventsvenue.com/event/jardin-de-miramar-and-dabianas-cocktail-party/
LOCATION:Jardin de Miramar Events Venue\, Buliran Rd. Brgy. San Isidro\, Antipolo City\, Rizal\, 1870\, Philippines
CATEGORIES:Grand Food Tasting
ATTACH;FMTTYPE=image/png:https://jardindemiramareventsvenue.com/jardindemiramareventsvenue/wp-content/uploads/2023/03/DBS_-Cover-copy.png
ORGANIZER;CN="Dabianas' Catering":MAILTO:dabianascatering@gmail.com
END:VEVENT
BEGIN:VEVENT
DTSTART;TZID=Asia/Shanghai:20230318T110000
DTEND;TZID=Asia/Shanghai:20230318T170000
DTSTAMP:20260424T222408
CREATED:20230304T060418Z
LAST-MODIFIED:20230314T015718Z
UID:19240-1679137200-1679158800@jardindemiramareventsvenue.com
SUMMARY:SM Megamall
DESCRIPTION:Registrations are closed for this event
URL:https://jardindemiramareventsvenue.com/event/sm-megamall/
LOCATION:Megatrade Hall SM Megamall\, 5th Level Mega B\, SM Megamall Edsa cor. Julia Vargas Ave.\, Mandaluyong\, Philippines
ATTACH;FMTTYPE=image/png:https://jardindemiramareventsvenue.com/jardindemiramareventsvenue/wp-content/uploads/2023/03/HIZONS.png
END:VEVENT
BEGIN:VEVENT
DTSTART;TZID=Asia/Shanghai:20230319T110000
DTEND;TZID=Asia/Shanghai:20230319T170000
DTSTAMP:20260424T222408
CREATED:20230304T060745Z
LAST-MODIFIED:20230311T063259Z
UID:19242-1679223600-1679245200@jardindemiramareventsvenue.com
SUMMARY:Madriaga Grand Food Tasting Event
DESCRIPTION:  \n\n	\n	\n	\n	\n    \n\n	    \n    \n        Registrations are closed for this event
URL:https://jardindemiramareventsvenue.com/event/madriaga-grand-food-tasting-event/
LOCATION:Isla Palma Venue\, Jardin de Miramar Buliran Rd. Brgy. San Isidro\, Antipolo City\, Philippines\, Rizal\, 1870\, Philippines
ATTACH;FMTTYPE=image/png:https://jardindemiramareventsvenue.com/jardindemiramareventsvenue/wp-content/uploads/2023/03/Madriaga_Cpver.png
END:VEVENT
BEGIN:VEVENT
DTSTART;TZID=Asia/Shanghai:20230326T110000
DTEND;TZID=Asia/Shanghai:20230326T170000
DTSTAMP:20260424T222408
CREATED:20230304T061030Z
LAST-MODIFIED:20230311T033739Z
UID:19244-1679828400-1679850000@jardindemiramareventsvenue.com
SUMMARY:CVJ Grand Food Tasting Event
DESCRIPTION:  \n\n	\n	\n	\n	\n    \n\n	    \n    \n        Registrations are closed for this event
URL:https://jardindemiramareventsvenue.com/event/cvj-grand-food-tasting-event/
LOCATION:Isla Palma Venue\, Jardin de Miramar Buliran Rd. Brgy. San Isidro\, Antipolo City\, Philippines\, Rizal\, 1870\, Philippines
CATEGORIES:Grand Food Tasting
ATTACH;FMTTYPE=image/png:https://jardindemiramareventsvenue.com/jardindemiramareventsvenue/wp-content/uploads/2023/03/CVJ.png
ORGANIZER;CN="CVJ Catering":MAILTO:cvjfoodcorp@yahoo.com
END:VEVENT
END:VCALENDAR