BEGIN:VCALENDAR
VERSION:2.0
PRODID:-//Jardin de Miramar Events Place and Venue - ECPv6.15.15//NONSGML v1.0//EN
CALSCALE:GREGORIAN
METHOD:PUBLISH
X-WR-CALNAME:Jardin de Miramar Events Place and Venue
X-ORIGINAL-URL:https://jardindemiramareventsvenue.com
X-WR-CALDESC:Events for Jardin de Miramar Events Place and Venue
REFRESH-INTERVAL;VALUE=DURATION:PT1H
X-Robots-Tag:noindex
X-PUBLISHED-TTL:PT1H
BEGIN:VTIMEZONE
TZID:Asia/Shanghai
BEGIN:STANDARD
TZOFFSETFROM:+0800
TZOFFSETTO:+0800
TZNAME:CST
DTSTART:20220101T000000
END:STANDARD
END:VTIMEZONE
BEGIN:VEVENT
DTSTART;TZID=Asia/Shanghai:20230709T110000
DTEND;TZID=Asia/Shanghai:20230709T170000
DTSTAMP:20260424T084234
CREATED:20230625T105334Z
LAST-MODIFIED:20230706T075417Z
UID:19679-1688900400-1688922000@jardindemiramareventsvenue.com
SUMMARY:PERFECT MATCH 6 | Top Manila Caterers
DESCRIPTION:Registrations are closed for this event
URL:https://jardindemiramareventsvenue.com/event/perfect-match-6-hizons-catering-and-richgold-weddings/
LOCATION:Jardin de Miramar Events Venue\, Buliran Rd. Brgy. San Isidro\, Antipolo City\, Rizal\, 1870\, Philippines
CATEGORIES:Grand Food Tasting
ATTACH;FMTTYPE=image/png:https://jardindemiramareventsvenue.com/jardindemiramareventsvenue/wp-content/uploads/2023/06/PM6-event-banner-e1687692542115.png
END:VEVENT
BEGIN:VEVENT
DTSTART;TZID=Asia/Shanghai:20230716T130000
DTEND;TZID=Asia/Shanghai:20230716T180000
DTSTAMP:20260424T084234
CREATED:20230705T093836Z
LAST-MODIFIED:20230705T093836Z
UID:19751-1689512400-1689530400@jardindemiramareventsvenue.com
SUMMARY:All Out Tropical Grand Food Tasting | Madriaga's Catering
DESCRIPTION:Registrations are closed for this event
URL:https://jardindemiramareventsvenue.com/event/all-out-tropical-grand-food-tasting-madriagas-catering/
LOCATION:Jardin de Miramar Events Venue\, Buliran Rd. Brgy. San Isidro\, Antipolo City\, Rizal\, 1870\, Philippines
END:VEVENT
BEGIN:VEVENT
DTSTART;TZID=Asia/Shanghai:20230722T110000
DTEND;TZID=Asia/Shanghai:20230722T170000
DTSTAMP:20260424T084234
CREATED:20230717T095016Z
LAST-MODIFIED:20230719T012118Z
UID:19782-1690023600-1690045200@jardindemiramareventsvenue.com
SUMMARY:Richgold Weddings | Mini Food Tasting Event
DESCRIPTION:Registrations are closed for this event
URL:https://jardindemiramareventsvenue.com/event/mini-food-tasting-event/
LOCATION:Jardin de Miramar Events Venue\, Buliran Rd. Brgy. San Isidro\, Antipolo City\, Rizal\, 1870\, Philippines
CATEGORIES:Mini Food Tasting Event
ATTACH;FMTTYPE=image/jpeg:https://jardindemiramareventsvenue.com/jardindemiramareventsvenue/wp-content/uploads/2023/07/MFT-RGW.jpg
ORGANIZER;CN="RIchgold Weddings":MAILTO:inquiry@richgoldweddings.com.ph
END:VEVENT
END:VCALENDAR