BEGIN:VCALENDAR
VERSION:2.0
PRODID:-//Jardin de Miramar Events Place and Venue - ECPv6.15.15//NONSGML v1.0//EN
CALSCALE:GREGORIAN
METHOD:PUBLISH
X-WR-CALNAME:Jardin de Miramar Events Place and Venue
X-ORIGINAL-URL:https://jardindemiramareventsvenue.com
X-WR-CALDESC:Events for Jardin de Miramar Events Place and Venue
REFRESH-INTERVAL;VALUE=DURATION:PT1H
X-Robots-Tag:noindex
X-PUBLISHED-TTL:PT1H
BEGIN:VTIMEZONE
TZID:Asia/Shanghai
BEGIN:STANDARD
TZOFFSETFROM:+0800
TZOFFSETTO:+0800
TZNAME:CST
DTSTART:20230101T000000
END:STANDARD
END:VTIMEZONE
BEGIN:VEVENT
DTSTART;TZID=Asia/Shanghai:20240107T130000
DTEND;TZID=Asia/Shanghai:20240107T180000
DTSTAMP:20260421T215911
CREATED:20231230T093315Z
LAST-MODIFIED:20240105T014633Z
UID:20530-1704632400-1704650400@jardindemiramareventsvenue.com
SUMMARY:THE COLORS OF THE YEAR: Our 1st Grand Food Tasting Event of 2024
DESCRIPTION:Registrations are closed for this event
URL:https://jardindemiramareventsvenue.com/event/the-colors-of-the-year-our-1st-grand-food-tasting-event-of-2024/
LOCATION:Jardin de Miramar Events Venue\, Buliran Rd. Brgy. San Isidro\, Antipolo City\, Rizal\, 1870\, Philippines
ATTACH;FMTTYPE=image/png:https://jardindemiramareventsvenue.com/jardindemiramareventsvenue/wp-content/uploads/2023/12/thecoloroftheyear.png
END:VEVENT
BEGIN:VEVENT
DTSTART;TZID=Asia/Shanghai:20240113T110000
DTEND;TZID=Asia/Shanghai:20240113T150000
DTSTAMP:20260421T215911
CREATED:20240111T023948Z
LAST-MODIFIED:20240111T024532Z
UID:20637-1705143600-1705158000@jardindemiramareventsvenue.com
SUMMARY:Citrus Bliss | Hizon's Catering Grand Food Tasting
DESCRIPTION:Registrations are closed for this event
URL:https://jardindemiramareventsvenue.com/event/citrus-bliss-hizons-catering-grand-food-tasting/
LOCATION:Jardin de Miramar Events Venue\, Buliran Rd. Brgy. San Isidro\, Antipolo City\, Rizal\, 1870\, Philippines
ATTACH;FMTTYPE=image/jpeg:https://jardindemiramareventsvenue.com/jardindemiramareventsvenue/wp-content/uploads/2024/01/citrus-bliss.jpg
END:VEVENT
BEGIN:VEVENT
DTSTART;TZID=Asia/Shanghai:20240114T130000
DTEND;TZID=Asia/Shanghai:20240114T180000
DTSTAMP:20260421T215911
CREATED:20240110T025827Z
LAST-MODIFIED:20240113T011850Z
UID:20629-1705237200-1705255200@jardindemiramareventsvenue.com
SUMMARY:Passion Hues | Richgold Weddings Grand Food Tasting Event
DESCRIPTION:Registrations are closed for this event
URL:https://jardindemiramareventsvenue.com/event/richgold-weddings-grand-food-tasting-event-2/
LOCATION:Jardin de Miramar Events Venue\, Buliran Rd. Brgy. San Isidro\, Antipolo City\, Rizal\, 1870\, Philippines
ATTACH;FMTTYPE=image/png:https://jardindemiramareventsvenue.com/jardindemiramareventsvenue/wp-content/uploads/2024/01/411300066_1075068230504429_1132428719131729818_n.png
ORGANIZER;CN="Jardin de Miramar":MAILTO:info@jardindemiramar.com
END:VEVENT
BEGIN:VEVENT
DTSTART;TZID=Asia/Shanghai:20240121T130000
DTEND;TZID=Asia/Shanghai:20240121T180000
DTSTAMP:20260421T215911
CREATED:20240114T042902Z
LAST-MODIFIED:20240114T043038Z
UID:20653-1705842000-1705860000@jardindemiramareventsvenue.com
SUMMARY:Love Burst | Sac B Catering Services Grand Food Tasting
DESCRIPTION:Registrations are closed for this event
URL:https://jardindemiramareventsvenue.com/event/love-burst-sac-b-catering-services-grand-food-tasting/
LOCATION:Jardin de Miramar Events Venue\, Buliran Rd. Brgy. San Isidro\, Antipolo City\, Rizal\, 1870\, Philippines
ATTACH;FMTTYPE=image/png:https://jardindemiramareventsvenue.com/jardindemiramareventsvenue/wp-content/uploads/2024/01/love-burst.png
ORGANIZER;CN="Sac B Catering":MAILTO:info@sacbcatering.com
END:VEVENT
BEGIN:VEVENT
DTSTART;TZID=Asia/Shanghai:20240127T130000
DTEND;TZID=Asia/Shanghai:20240127T180000
DTSTAMP:20260421T215911
CREATED:20240122T101025Z
LAST-MODIFIED:20240122T101025Z
UID:20731-1706360400-1706378400@jardindemiramareventsvenue.com
SUMMARY:A White Symphony | Chef Maria Grand Food Tasting
DESCRIPTION:Registrations are closed for this event
URL:https://jardindemiramareventsvenue.com/event/a-white-symphony-chef-maria-grand-food-tasting/
LOCATION:Jardin de Miramar Events Venue\, Buliran Rd. Brgy. San Isidro\, Antipolo City\, Rizal\, 1870\, Philippines
ATTACH;FMTTYPE=image/png:https://jardindemiramareventsvenue.com/jardindemiramareventsvenue/wp-content/uploads/2024/01/415755010_372605625384381_5764003719820285119_n.png
END:VEVENT
BEGIN:VEVENT
DTSTART;TZID=Asia/Shanghai:20240128T130000
DTEND;TZID=Asia/Shanghai:20240128T180000
DTSTAMP:20260421T215911
CREATED:20240122T101540Z
LAST-MODIFIED:20240122T101639Z
UID:20734-1706446800-1706464800@jardindemiramareventsvenue.com
SUMMARY:The Best of Rizal | Densol's Catering Grand Food Tasting
DESCRIPTION:Registrations are closed for this event
URL:https://jardindemiramareventsvenue.com/event/the-best-of-rizal-densols-catering-grand-food-tasting/
LOCATION:Jardin de Miramar Events Venue\, Buliran Rd. Brgy. San Isidro\, Antipolo City\, Rizal\, 1870\, Philippines
ATTACH;FMTTYPE=image/png:https://jardindemiramareventsvenue.com/jardindemiramareventsvenue/wp-content/uploads/2024/01/415591642_720747913506754_1180600074438063406_n.png
END:VEVENT
END:VCALENDAR