BEGIN:VCALENDAR
VERSION:2.0
PRODID:-//Jardin de Miramar Events Place and Venue - ECPv6.15.15//NONSGML v1.0//EN
CALSCALE:GREGORIAN
METHOD:PUBLISH
X-ORIGINAL-URL:https://jardindemiramareventsvenue.com
X-WR-CALDESC:Events for Jardin de Miramar Events Place and Venue
REFRESH-INTERVAL;VALUE=DURATION:PT1H
X-Robots-Tag:noindex
X-PUBLISHED-TTL:PT1H
BEGIN:VTIMEZONE
TZID:Asia/Shanghai
BEGIN:STANDARD
TZOFFSETFROM:+0800
TZOFFSETTO:+0800
TZNAME:CST
DTSTART:20230101T000000
END:STANDARD
END:VTIMEZONE
BEGIN:VEVENT
DTSTART;TZID=Asia/Shanghai:20240303T130000
DTEND;TZID=Asia/Shanghai:20240303T180000
DTSTAMP:20260421T125547
CREATED:20240225T111315Z
LAST-MODIFIED:20240225T111315Z
UID:20895-1709470800-1709488800@jardindemiramareventsvenue.com
SUMMARY:Perfect Match 1 | Richgold Weddings & Hizon's Catering
DESCRIPTION:Registrations are closed for this event
URL:https://jardindemiramareventsvenue.com/event/perfect-match-1-richgold-weddings-hizons-catering/
LOCATION:Jardin de Miramar Events Venue\, Buliran Rd. Brgy. San Isidro\, Antipolo City\, Rizal\, 1870\, Philippines
ORGANIZER;CN="RIchgold Weddings":MAILTO:inquiry@richgoldweddings.com.ph
END:VEVENT
BEGIN:VEVENT
DTSTART;TZID=Asia/Shanghai:20240316T110000
DTEND;TZID=Asia/Shanghai:20240316T190000
DTSTAMP:20260421T125547
CREATED:20240216T071612Z
LAST-MODIFIED:20240309T192853Z
UID:20806-1710586800-1710615600@jardindemiramareventsvenue.com
SUMMARY:WEDDING BASH 2024 DAY 1
DESCRIPTION:Registrations are closed for this event \n        \n        	\n\n \n🎉 Get pumped because Jardin de Miramar is bringing you the ultimate Wedding Bash Event! 🥳🌸🎊\nJoin us for two days of sheer awesomeness as we celebrate love\, laughter\, and all things amazing. 🌿💒 Discover the hottest wedding suppliers in Antipolo and say hello to the ultimate bride-chilla vibes!\nSo grab your partner\, and get ready to have a wedding prep blast that’ll have you buzzing for days! 💑💥\n#WeddingBash #CelebrateLove #PartyVibes
URL:https://jardindemiramareventsvenue.com/event/wedding-bash-2024/
LOCATION:Robinson’s Place Antipolo\, Sumulong Highway\, L. Sumulong Memorial Circle\,\, Antipolo\, Rizal\, 1870\, Philippines
ATTACH;FMTTYPE=image/png:https://jardindemiramareventsvenue.com/jardindemiramareventsvenue/wp-content/uploads/2024/02/wedding-bash-banner.png
END:VEVENT
BEGIN:VEVENT
DTSTART;TZID=Asia/Shanghai:20240317T110000
DTEND;TZID=Asia/Shanghai:20240317T190000
DTSTAMP:20260421T125547
CREATED:20240216T072134Z
LAST-MODIFIED:20240309T192837Z
UID:20812-1710673200-1710702000@jardindemiramareventsvenue.com
SUMMARY:WEDDING BASH 2024 DAY 2
DESCRIPTION:Registrations are closed for this event \n        \n        	\n\n \n🎉 Get pumped because Jardin de Miramar is bringing you the ultimate Wedding Bash Event! 🥳🌸🎊\nJoin us for two days of sheer awesomeness as we celebrate love\, laughter\, and all things amazing. 🌿💒 Discover the hottest wedding suppliers in Antipolo and say hello to the ultimate bride-chilla vibes!\nSo grab your partner\, and get ready to have a wedding prep blast that’ll have you buzzing for days! 💑💥 \n#WeddingBash #CelebrateLove #PartyVibes
URL:https://jardindemiramareventsvenue.com/event/wedding-bash-2024-day-2/
LOCATION:Robinson’s Place Antipolo\, Sumulong Highway\, L. Sumulong Memorial Circle\,\, Antipolo\, Rizal\, 1870\, Philippines
ATTACH;FMTTYPE=image/png:https://jardindemiramareventsvenue.com/jardindemiramareventsvenue/wp-content/uploads/2024/02/wedding-bash-banner.png
END:VEVENT
BEGIN:VEVENT
DTSTART;TZID=Asia/Shanghai:20240324T130000
DTEND;TZID=Asia/Shanghai:20240324T180000
DTSTAMP:20260421T125547
CREATED:20240318T032726Z
LAST-MODIFIED:20240323T031834Z
UID:20938-1711285200-1711303200@jardindemiramareventsvenue.com
SUMMARY:Perfect Match 2 | SacB Catering and Dabianas Catering
DESCRIPTION:Registrations are closed for this event \n        \n        	\n\n \n\nAttention all lovebirds \n\n\nReady to say ‘I do’ without breaking the bank? With our most affordable package yet\, you can have the wedding of your dreams at Jardin de Miramar for only Php99\,000!  Gather your 50 closest family and friends and let’s create unforgettable memories in our stunning gardens\n\n\n Come and join us at the Grand Food Tasting Event on March 24 and let the wedding planning begin! \n\n\nRSVP Now!  https://rb.gy/k2yb1v\n\n\n#AffordablyInLove #JardinWeddings
URL:https://jardindemiramareventsvenue.com/event/perfect-match-2-sacb-catering-and-dabianas-catering/
LOCATION:Jardin de Miramar Events Venue\, Buliran Rd. Brgy. San Isidro\, Antipolo City\, Rizal\, 1870\, Philippines
ATTACH;FMTTYPE=image/png:https://jardindemiramareventsvenue.com/jardindemiramareventsvenue/wp-content/uploads/2024/03/ALW_EVENT.png
ORGANIZER;CN="Dabianas' Catering":MAILTO:dabianascatering@gmail.com
END:VEVENT
END:VCALENDAR