BEGIN:VCALENDAR
VERSION:2.0
PRODID:-//Jardin de Miramar Events Place and Venue - ECPv6.15.15//NONSGML v1.0//EN
CALSCALE:GREGORIAN
METHOD:PUBLISH
X-WR-CALNAME:Jardin de Miramar Events Place and Venue
X-ORIGINAL-URL:https://jardindemiramareventsvenue.com
X-WR-CALDESC:Events for Jardin de Miramar Events Place and Venue
REFRESH-INTERVAL;VALUE=DURATION:PT1H
X-Robots-Tag:noindex
X-PUBLISHED-TTL:PT1H
BEGIN:VTIMEZONE
TZID:Asia/Shanghai
BEGIN:STANDARD
TZOFFSETFROM:+0800
TZOFFSETTO:+0800
TZNAME:CST
DTSTART:20230101T000000
END:STANDARD
END:VTIMEZONE
BEGIN:VEVENT
DTSTART;TZID=Asia/Shanghai:20240505T130000
DTEND;TZID=Asia/Shanghai:20240505T180000
DTSTAMP:20260421T084144
CREATED:20240423T064444Z
LAST-MODIFIED:20240423T064733Z
UID:20983-1714914000-1714932000@jardindemiramareventsvenue.com
SUMMARY:Botanical Garden Weddings | Madriaga Grand Food Tasting
DESCRIPTION:🌿 Hey lovebirds! \nReady to walk down the aisle surrounded by nature’s beauty? \nImagine exchanging vows surrounded by lush greenery and vibrant blooms\, with the sweet scent of fresh flowers filling the air. At Jardin de Miramar\, your dream botanical garden wedding can become a reality. \nRSVP to our Madriaga Grand Food Tasting Event! Get a taste of what your wedding day could be like in our picturesque garden setting. 🌸 \nJoin us at our food tasting event and let the planning begin! 🥂 \n\n	\n	\n	\n	\n    \n\n	    \n    \n        Registrations are closed for this event
URL:https://jardindemiramareventsvenue.com/event/botanical-garden-weddings-madriaga-grand-food-tasting/
LOCATION:Jardin de Miramar Events Venue\, Buliran Rd. Brgy. San Isidro\, Antipolo City\, Rizal\, 1870\, Philippines
ATTACH;FMTTYPE=image/png:https://jardindemiramareventsvenue.com/jardindemiramareventsvenue/wp-content/uploads/2024/04/BGW_SQ_event.png
END:VEVENT
BEGIN:VEVENT
DTSTART;TZID=Asia/Shanghai:20240517T110000
DTEND;TZID=Asia/Shanghai:20240519T200000
DTSTAMP:20260421T084144
CREATED:20240508T063742Z
LAST-MODIFIED:20240508T070444Z
UID:21004-1715943600-1716148800@jardindemiramareventsvenue.com
SUMMARY:The Wedding Library
DESCRIPTION:Planning your happily ever after just got a whole lot easier! Dive into a world of wedding wonders at The Wedding Library and discover the perfect pieces to bring your vision to life.\n\n\nWhether you’re a modern minimalist or a boho babe\, our range of chic and stylish options will have you feeling like the ultimate #BrideGoals.\n\n\nPlus\, check out amazing freebies and steal deals when you book Jardin de Miramar. Let’s make magic happen together!\n\n\nRSVP Now! www.weddinglibrarybridalfair.com.ph/register\n\n\n” #weddingplanning #instawedding
URL:https://jardindemiramareventsvenue.com/event/the-wedding-library/
LOCATION:Megatrade Hall SM Megamall\, 5th Level Mega B\, SM Megamall Edsa cor. Julia Vargas Ave.\, Mandaluyong\, Philippines
ATTACH;FMTTYPE=image/jpeg:https://jardindemiramareventsvenue.com/jardindemiramareventsvenue/wp-content/uploads/2024/05/att.P0P47jSAPBjVkwoFr90COJrnB_gKK7DVjH9MhcokobA-1.jpg
END:VEVENT
BEGIN:VEVENT
DTSTART;TZID=Asia/Shanghai:20240526T130000
DTEND;TZID=Asia/Shanghai:20240526T180000
DTSTAMP:20260421T084144
CREATED:20240518T091640Z
LAST-MODIFIED:20240521T071932Z
UID:21010-1716728400-1716746400@jardindemiramareventsvenue.com
SUMMARY:Abram's Grand Food Tasting Event
DESCRIPTION:Get Ready to Savor Summer Love at Our Grand Food Tasting Event! 🍽️💖 \nIndulge in an evening of romance and flavor at Jardin de Miramar’s Summer Romance Grand Food Tasting Event\, brought to you by Abram’s Event Catering Services. Picture yourselves surrounded by lush greenery and blossoms as you sample an array of delicious dishes crafted with love and care. \nRSVP now for a taste of what your dream wedding could be like in our enchanting garden setting. Don’t miss this chance to ignite your senses and start planning the perfect celebration of your love story. 🥂🌸 \n\n	\n	\n	\n	\n    \n\n	    \n    \n        Registrations are closed for this event
URL:https://jardindemiramareventsvenue.com/event/summerromance/
LOCATION:Jardin de Miramar Events Venue\, Buliran Rd. Brgy. San Isidro\, Antipolo City\, Rizal\, 1870\, Philippines
ATTACH;FMTTYPE=image/png:https://jardindemiramareventsvenue.com/jardindemiramareventsvenue/wp-content/uploads/2024/05/Abrams-Banner.png
END:VEVENT
END:VCALENDAR