BEGIN:VCALENDAR
VERSION:2.0
PRODID:-//Jardin de Miramar Events Place and Venue - ECPv6.15.15//NONSGML v1.0//EN
CALSCALE:GREGORIAN
METHOD:PUBLISH
X-ORIGINAL-URL:https://jardindemiramareventsvenue.com
X-WR-CALDESC:Events for Jardin de Miramar Events Place and Venue
REFRESH-INTERVAL;VALUE=DURATION:PT1H
X-Robots-Tag:noindex
X-PUBLISHED-TTL:PT1H
BEGIN:VTIMEZONE
TZID:Asia/Shanghai
BEGIN:STANDARD
TZOFFSETFROM:+0800
TZOFFSETTO:+0800
TZNAME:CST
DTSTART:20230101T000000
END:STANDARD
END:VTIMEZONE
BEGIN:VEVENT
DTSTART;TZID=Asia/Shanghai:20240623T130000
DTEND;TZID=Asia/Shanghai:20240623T180000
DTSTAMP:20260420T220611
CREATED:20240613T043946Z
LAST-MODIFIED:20240613T043946Z
UID:21046-1719147600-1719165600@jardindemiramareventsvenue.com
SUMMARY:Perfect Match 5 | Densol's Catering and CVJ Catering
DESCRIPTION:🎉 Join us at Jardin de Miramar for the Perfect Match 5 Grand Food Tasting event on June 23\, 2024\, from 1pm to 6pm. Get ready to indulge in mouthwatering creations from CVJ Catering and Densols Catering at the picturesque Isla Palma Venue. \nMark your calendar and RSVP Now! It’s going to be a feast for the senses that you won’t want to miss! 🍽️✨ #FoodieHeaven #JardinDeMiramar \n\n	\n	\n	\n	\n    \n\n	    \n    \n        Registrations are closed for this event
URL:https://jardindemiramareventsvenue.com/event/perfect-match-5-densols-catering-and-cvj-catering/
LOCATION:Isla Palma Venue\, Jardin de Miramar Buliran Rd. Brgy. San Isidro\, Antipolo City\, Philippines\, Rizal\, 1870\, Philippines
ATTACH;FMTTYPE=image/png:https://jardindemiramareventsvenue.com/jardindemiramareventsvenue/wp-content/uploads/2024/06/PM5_GFT_EVENT.png
ORGANIZER;CN="CVJ Catering":MAILTO:cvjfoodcorp@yahoo.com
END:VEVENT
END:VCALENDAR