BEGIN:VCALENDAR
VERSION:2.0
PRODID:-//Jardin de Miramar Events Place and Venue - ECPv6.15.15//NONSGML v1.0//EN
CALSCALE:GREGORIAN
METHOD:PUBLISH
X-WR-CALNAME:Jardin de Miramar Events Place and Venue
X-ORIGINAL-URL:https://jardindemiramareventsvenue.com
X-WR-CALDESC:Events for Jardin de Miramar Events Place and Venue
REFRESH-INTERVAL;VALUE=DURATION:PT1H
X-Robots-Tag:noindex
X-PUBLISHED-TTL:PT1H
BEGIN:VTIMEZONE
TZID:Asia/Shanghai
BEGIN:STANDARD
TZOFFSETFROM:+0800
TZOFFSETTO:+0800
TZNAME:CST
DTSTART:20240101T000000
END:STANDARD
END:VTIMEZONE
BEGIN:VEVENT
DTSTART;TZID=Asia/Shanghai:20250907T130000
DTEND;TZID=Asia/Shanghai:20250907T180000
DTSTAMP:20260420T111136
CREATED:20250901T034439Z
LAST-MODIFIED:20250901T042527Z
UID:21927-1757250000-1757268000@jardindemiramareventsvenue.com
SUMMARY:COLOR BURST: Chef Maria's Grand Food Tasting Event
DESCRIPTION:Registrations are closed for this event
URL:https://jardindemiramareventsvenue.com/event/color-burst-chef-marias-grand-food-tasting-event/
LOCATION:Jardin de Miramar Events Venue\, Buliran Rd. Brgy. San Isidro\, Antipolo City\, Rizal\, 1870\, Philippines
ATTACH;FMTTYPE=image/jpeg:https://jardindemiramareventsvenue.com/jardindemiramareventsvenue/wp-content/uploads/2025/09/41310fb6-49ad-48ca-832c-a1fbb90057d4.jpg
END:VEVENT
BEGIN:VEVENT
DTSTART;TZID=Asia/Shanghai:20250914T130000
DTEND;TZID=Asia/Shanghai:20250914T180000
DTSTAMP:20260420T111136
CREATED:20250908T092252Z
LAST-MODIFIED:20250908T092511Z
UID:21937-1757854800-1757872800@jardindemiramareventsvenue.com
SUMMARY:Shades of Forever: 8th Century Catering Grand Food Tasting Event
DESCRIPTION:Registrations are closed for this event
URL:https://jardindemiramareventsvenue.com/event/shades-of-forever-8th-century-gft/
LOCATION:Jardin de Miramar Events Venue\, Buliran Rd. Brgy. San Isidro\, Antipolo City\, Rizal\, 1870\, Philippines
ATTACH;FMTTYPE=image/png:https://jardindemiramareventsvenue.com/jardindemiramareventsvenue/wp-content/uploads/2025/09/542041546_2202031193632143_8980961542586888005_n.png
END:VEVENT
BEGIN:VEVENT
DTSTART;TZID=Asia/Shanghai:20250921T130000
DTEND;TZID=Asia/Shanghai:20250921T180000
DTSTAMP:20260420T111136
CREATED:20250913T051322Z
LAST-MODIFIED:20250915T014640Z
UID:21943-1758459600-1758477600@jardindemiramareventsvenue.com
SUMMARY:Love Pop | Sac B GFT
DESCRIPTION:Love is POPpin’ and so is the food!   Fall in love with every bite this Sept 21 with SacB Catering\n\n	\n	\n	\n	\n    \n\n	    \n    \n        Registrations are closed for this event
URL:https://jardindemiramareventsvenue.com/event/love-burst-sac-b-gft/
LOCATION:Jardin de Miramar Events Venue\, Buliran Rd. Brgy. San Isidro\, Antipolo City\, Rizal\, 1870\, Philippines
ATTACH;FMTTYPE=image/png:https://jardindemiramareventsvenue.com/jardindemiramareventsvenue/wp-content/uploads/2025/09/love-pop.png
ORGANIZER;CN="Sac B Catering":MAILTO:info@sacbcatering.com
END:VEVENT
END:VCALENDAR